BEGIN:VCALENDAR
VERSION:2.0
PRODID:-//ChamberMaster//Event Calendar 2.0//EN
METHOD:PUBLISH
X-PUBLISHED-TTL:P3D
REFRESH-INTERVAL:P3D
CALSCALE:GREGORIAN
BEGIN:VEVENT
DTSTART;VALUE=DATE:20110908
DTEND;VALUE=DATE:20110909
TRANSP:TRANSPARENT
X-MICROSOFT-CDO-ALLDAYEVENT:TRUE
SUMMARY:Community Cards & Dominoes
DESCRIPTION:Community Cards & Dominoes\n\n\n\nWednesday\, September 8\n\n1:30 pm\n\n\n\nHomestead House\n\n2300 Lincoln Street\, Beatrice\n\n\n\nPublic invited for fun and refreshments.
X-ALT-DESC;FMTTYPE=text/html:Community Cards &amp\; Dominoes<br />\n<br />\nWednesday\, September 8<br />\n1:30 pm<br />\n<br />\nHomestead House<br />\n2300 Lincoln Street\, Beatrice<br />\n<br />\nPublic invited for fun and refreshments.
LOCATION:
UID:e.41.5100
SEQUENCE:3
DTSTAMP:20260424T123109Z
URL:https://business.beatricechamber.com/events/details/community-cards-dominoes-09-08-2011-5100
END:VEVENT

END:VCALENDAR
