BEGIN:VCALENDAR
VERSION:2.0
PRODID:-//ChamberMaster//Event Calendar 2.0//EN
METHOD:PUBLISH
X-PUBLISHED-TTL:P3D
REFRESH-INTERVAL:P3D
CALSCALE:GREGORIAN
BEGIN:VEVENT
DTSTART:20120913T183000Z
DTEND:20120913T183000Z
X-MICROSOFT-CDO-ALLDAYEVENT:FALSE
SUMMARY:Community Cards & Dominoes
DESCRIPTION:Public invited for fun and refresments.
X-ALT-DESC;FMTTYPE=text/html:Public invited for fun and refresments.
LOCATION:Homestead House 2300 Lincoln St. Beatrice\, NE
UID:e.41.6643
SEQUENCE:3
DTSTAMP:20260422T090806Z
URL:https://business.beatricechamber.com/events/details/community-cards-dominoes-09-13-2012-6643
END:VEVENT

END:VCALENDAR
