BEGIN:VCALENDAR
VERSION:2.0
PRODID:-//ChamberMaster//Event Calendar 2.0//EN
METHOD:PUBLISH
X-PUBLISHED-TTL:P3D
REFRESH-INTERVAL:P3D
CALSCALE:GREGORIAN
BEGIN:VEVENT
DTSTART;VALUE=DATE:20101111
DTEND;VALUE=DATE:20101112
TRANSP:TRANSPARENT
X-MICROSOFT-CDO-ALLDAYEVENT:TRUE
SUMMARY:Community Cards & Dominoes
DESCRIPTION:Community Cards & Dominoes\n\n\n\n1:30 p.m.\n\n\n\nHomestead House\, 2300 Lincoln St.\, Beatrice.\n\n\n\nPublic invited for fun and refreshments!
X-ALT-DESC;FMTTYPE=text/html:<span style="font-size: 14px"><strong>Community Cards &amp\; Dominoes</strong></span><br />\n<br />\n1:30 p.m.<br />\n<br />\nHomestead House\, 2300 Lincoln St.\, Beatrice.<br />\n<br />\n<u>Public invited for fun and refreshments!</u>
LOCATION:
UID:e.41.2728
SEQUENCE:3
DTSTAMP:20260425T032749Z
URL:https://business.beatricechamber.com/events/details/community-cards-dominoes-11-11-2010-2728
END:VEVENT

END:VCALENDAR
