BEGIN:VCALENDAR
VERSION:2.0
PRODID:-//ChamberMaster//Event Calendar 2.0//EN
METHOD:PUBLISH
X-PUBLISHED-TTL:P3D
REFRESH-INTERVAL:P3D
CALSCALE:GREGORIAN
BEGIN:VEVENT
DTSTART:20101209T193000Z
DTEND:20101209T193000Z
X-MICROSOFT-CDO-ALLDAYEVENT:FALSE
SUMMARY:Community Cards & Dominoes
DESCRIPTION:Community Cards & Dominoes:\n\n\n\n1:30 p.m. Homestead House\, 2300 Lincoln St.\, Beatrice. Public invited for fun and refreshments.
X-ALT-DESC;FMTTYPE=text/html:<strong><span style="font-size: 14px\;">Community Cards &amp\; Dominoes:</span></strong><br />\n<br />\n1:30 p.m. Homestead House\, 2300 Lincoln St.\, Beatrice. Public invited for fun and refreshments.<br />\n
LOCATION:
UID:e.41.2859
SEQUENCE:3
DTSTAMP:20260425T014420Z
URL:https://business.beatricechamber.com/events/details/community-cards-dominoes-12-09-2010-2859
END:VEVENT

END:VCALENDAR
