BEGIN:VCALENDAR
VERSION:2.0
PRODID:-//ChamberMaster//Event Calendar 2.0//EN
METHOD:PUBLISH
X-PUBLISHED-TTL:P3D
REFRESH-INTERVAL:P3D
CALSCALE:GREGORIAN
BEGIN:VEVENT
DTSTART:20091112T193000Z
DTEND:20091112T213000Z
X-MICROSOFT-CDO-ALLDAYEVENT:FALSE
SUMMARY:Community Cards & Games
DESCRIPTION:Bring a friend to enjoy cards\,  games\, refreshments and fellowship!  Door Prizes!
X-ALT-DESC;FMTTYPE=text/html:Bring a friend to enjoy cards\,  games\, refreshments and fellowship!  Door Prizes!
LOCATION:Homestead House 2300 Lincoln St Beatrice\, NE 68310
UID:e.41.952
SEQUENCE:3
DTSTAMP:20260425T204730Z
URL:https://business.beatricechamber.com/events/details/community-cards-games-11-12-2009-952
END:VEVENT

END:VCALENDAR
