BEGIN:VCALENDAR
VERSION:2.0
PRODID:-//ChamberMaster//Event Calendar 2.0//EN
METHOD:PUBLISH
X-PUBLISHED-TTL:P3D
REFRESH-INTERVAL:P3D
CALSCALE:GREGORIAN
BEGIN:VEVENT
DTSTART;VALUE=DATE:20110304
DTEND;VALUE=DATE:20110305
TRANSP:TRANSPARENT
X-MICROSOFT-CDO-ALLDAYEVENT:TRUE
SUMMARY:Community Coffee
DESCRIPTION:Community Coffee: 10 a.m.\, Wymore Good Samaritan Center\, 105 East D St.\, Wymore
X-ALT-DESC;FMTTYPE=text/html:Community Coffee: 10 a.m.\, Wymore Good Samaritan Center\, 105 East D St.\, Wymore
LOCATION:
UID:e.41.4204
SEQUENCE:3
DTSTAMP:20260424T211408Z
URL:https://business.beatricechamber.com/events/details/community-coffee-03-04-2011-4204
END:VEVENT

END:VCALENDAR
