BEGIN:VCALENDAR
VERSION:2.0
PRODID:-//ChamberMaster//Event Calendar 2.0//EN
METHOD:PUBLISH
X-PUBLISHED-TTL:P3D
REFRESH-INTERVAL:P3D
CALSCALE:GREGORIAN
BEGIN:VEVENT
DTSTART:20120406T150000Z
DTEND:20120407T030000Z
X-MICROSOFT-CDO-ALLDAYEVENT:FALSE
SUMMARY:Community Coffee
DESCRIPTION:
X-ALT-DESC;FMTTYPE=text/html:
LOCATION:Wymore Good Samaritan Center\, 105 East D St.\, Wymore Sponsor: Southern Gage Community Pride Group
UID:e.41.5440
SEQUENCE:3
DTSTAMP:20260422T155336Z
URL:https://business.beatricechamber.com/events/details/community-coffee-04-06-2012-5440
END:VEVENT

END:VCALENDAR
