BEGIN:VCALENDAR
VERSION:2.0
PRODID:-//ChamberMaster//Event Calendar 2.0//EN
METHOD:PUBLISH
X-PUBLISHED-TTL:P3D
REFRESH-INTERVAL:P3D
CALSCALE:GREGORIAN
BEGIN:VEVENT
DTSTART:20120525T150000Z
DTEND:20120525T170000Z
X-MICROSOFT-CDO-ALLDAYEVENT:FALSE
SUMMARY:Community Coffee
DESCRIPTION:Wymore Senior Center\, American Legion Post\, 815 West D St.\, Wymore. Public invited. Sponsor: Southern Gage Community Pride Group.
X-ALT-DESC;FMTTYPE=text/html:Wymore Senior Center\,&nbsp\;American Legion Post\, 815 West D St.\, Wymore. Public invited. Sponsor:&nbsp\;Southern Gage Community&nbsp\;Pride Group.
LOCATION:
UID:e.41.5713
SEQUENCE:3
DTSTAMP:20260422T142226Z
URL:https://business.beatricechamber.com/events/details/community-coffee-05-25-2012-5713
END:VEVENT

END:VCALENDAR
