BEGIN:VCALENDAR
VERSION:2.0
PRODID:-//ChamberMaster//Event Calendar 2.0//EN
METHOD:PUBLISH
X-PUBLISHED-TTL:P3D
REFRESH-INTERVAL:P3D
CALSCALE:GREGORIAN
BEGIN:VEVENT
DTSTART;VALUE=DATE:20110722
DTEND;VALUE=DATE:20110723
TRANSP:TRANSPARENT
X-MICROSOFT-CDO-ALLDAYEVENT:TRUE
SUMMARY:Community Coffee
DESCRIPTION:Community Coffee will be held at 10 a.m. Friday at the Wymore Senior Center and is being hosted by the Immanuel Stateline Lutheran Women's Group.  The Wymore Senior Center is located at the American Legion Post at 815 West D St.\, Wymore.  The coffees are organized by Southeast Gage Community Pride Group.  The public is invited to the coffees.
X-ALT-DESC;FMTTYPE=text/html:Community Coffee will be held at 10 a.m. Friday at the Wymore Senior Center and is being hosted by the Immanuel Stateline Lutheran Women&#39\;s Group.&nbsp\; The Wymore Senior Center is located at the American Legion Post at 815 West D St.\, Wymore.&nbsp\; The coffees are organized by Southeast Gage Community Pride Group.&nbsp\; The public is invited to the coffees.
LOCATION:
UID:e.41.4982
SEQUENCE:3
DTSTAMP:20260424T152903Z
URL:https://business.beatricechamber.com/events/details/community-coffee-07-22-2011-4982
END:VEVENT

END:VCALENDAR
