BEGIN:VCALENDAR
VERSION:2.0
PRODID:-//ChamberMaster//Event Calendar 2.0//EN
METHOD:PUBLISH
X-PUBLISHED-TTL:P3D
REFRESH-INTERVAL:P3D
CALSCALE:GREGORIAN
BEGIN:VEVENT
DTSTART:20120907T150000Z
DTEND:20120907T150000Z
X-MICROSOFT-CDO-ALLDAYEVENT:FALSE
SUMMARY:Community Coffee
DESCRIPTION:Sponsored by Southern Gage Community Pride Group.
X-ALT-DESC;FMTTYPE=text/html:<p>\n	Sponsored by Southern Gage Community Pride Group.</p>\n
LOCATION:Wymore Good Samaritan Center 105 East D St. Wymore\, NE
UID:e.41.6639
SEQUENCE:3
DTSTAMP:20260422T090356Z
URL:https://business.beatricechamber.com/events/details/community-coffee-09-07-2012-6639
END:VEVENT

END:VCALENDAR
