BEGIN:VCALENDAR
VERSION:2.0
PRODID:-//ChamberMaster//Event Calendar 2.0//EN
METHOD:PUBLISH
X-PUBLISHED-TTL:P3D
REFRESH-INTERVAL:P3D
CALSCALE:GREGORIAN
BEGIN:VEVENT
DTSTART;VALUE=DATE:20110916
DTEND;VALUE=DATE:20110917
TRANSP:TRANSPARENT
X-MICROSOFT-CDO-ALLDAYEVENT:TRUE
SUMMARY:Community Coffee
DESCRIPTION:Community Coffee\n\nFriday\, September 16\n\n10 am\n\n\n\nBlue Springs United Methodist Church\, 112 West Broad St.\, Blue Springs\, NE\n\n\n\nOrganized by Southern Gage Community Pride Group
X-ALT-DESC;FMTTYPE=text/html:Community Coffee<br />\nFriday\, September 16<br />\n10 am<br />\n<br />\nBlue Springs United Methodist Church\, 112 West Broad St.\, Blue Springs\, NE<br />\n<br />\nOrganized by Southern Gage Community Pride Group
LOCATION:
UID:e.41.5114
SEQUENCE:3
DTSTAMP:20260424T122819Z
URL:https://business.beatricechamber.com/events/details/community-coffee-09-16-2011-5114
END:VEVENT

END:VCALENDAR
