BEGIN:VCALENDAR
VERSION:2.0
PRODID:-//ChamberMaster//Event Calendar 2.0//EN
METHOD:PUBLISH
X-PUBLISHED-TTL:P3D
REFRESH-INTERVAL:P3D
CALSCALE:GREGORIAN
BEGIN:VEVENT
DTSTART;VALUE=DATE:20110923
DTEND;VALUE=DATE:20110924
TRANSP:TRANSPARENT
X-MICROSOFT-CDO-ALLDAYEVENT:TRUE
SUMMARY:Community Coffee
DESCRIPTION:Community Coffee\n\nFriday\, September 23\n\n\n\n10 am\n\n\n\n118 East D Street\, Wymore.  Hosted by Wymore EMS\n\n\n\nOrganized by Southern Gage Community Pride Group
X-ALT-DESC;FMTTYPE=text/html:Community Coffee<br />\nFriday\, September 23<br />\n<br />\n10 am<br />\n<br />\n118 East D Street\, Wymore.&nbsp\; Hosted by Wymore EMS<br />\n<br />\nOrganized by Southern Gage Community Pride Group
LOCATION:
UID:e.41.5118
SEQUENCE:3
DTSTAMP:20260424T122826Z
URL:https://business.beatricechamber.com/events/details/community-coffee-09-23-2011-5118
END:VEVENT

END:VCALENDAR
