BEGIN:VCALENDAR
VERSION:2.0
PRODID:-//ChamberMaster//Event Calendar 2.0//EN
METHOD:PUBLISH
X-PUBLISHED-TTL:P3D
REFRESH-INTERVAL:P3D
CALSCALE:GREGORIAN
BEGIN:VEVENT
DTSTART;VALUE=DATE:20110930
DTEND;VALUE=DATE:20111001
TRANSP:TRANSPARENT
X-MICROSOFT-CDO-ALLDAYEVENT:TRUE
SUMMARY:Community Coffee
DESCRIPTION:Community Coffee\n\nFriday\, September 30\n\n\n\n10 am\n\n\n\nWymore Senior Center\, American legion Post\n\n815 West D Street\, Wymore\, NE\n\n\n\nOrganized by Southern Gage Community Pride Group
X-ALT-DESC;FMTTYPE=text/html:Community Coffee<br />\nFriday\, September 30<br />\n<br />\n10 am<br />\n<br />\nWymore Senior Center\, American legion Post<br />\n815 West D Street\, Wymore\, NE<br />\n<br />\nOrganized by Southern Gage Community Pride Group
LOCATION:
UID:e.41.5120
SEQUENCE:3
DTSTAMP:20260424T122821Z
URL:https://business.beatricechamber.com/events/details/community-coffee-09-30-2011-5120
END:VEVENT

END:VCALENDAR
