BEGIN:VCALENDAR
VERSION:2.0
PRODID:-//ChamberMaster//Event Calendar 2.0//EN
METHOD:PUBLISH
X-PUBLISHED-TTL:P3D
REFRESH-INTERVAL:P3D
CALSCALE:GREGORIAN
BEGIN:VEVENT
DTSTART;VALUE=DATE:20111007
DTEND;VALUE=DATE:20111008
TRANSP:TRANSPARENT
X-MICROSOFT-CDO-ALLDAYEVENT:TRUE
SUMMARY:Community Coffee
DESCRIPTION:Community Coffee\n\nFriday\, October 7\n\n\n\n10 am\n\n\n\nWymore Good Samaritan Center\, 105 East D Street\, Wymore\, NE\n\n\n\nOrganized by Southern Gage Community Pride Group
X-ALT-DESC;FMTTYPE=text/html:Community Coffee<br />\nFriday\, October 7<br />\n<br />\n10 am<br />\n<br />\nWymore Good Samaritan Center\, 105 East D Street\, Wymore\, NE<br />\n<br />\nOrganized by Southern Gage Community Pride Group
LOCATION:
UID:e.41.5119
SEQUENCE:3
DTSTAMP:20260424T110301Z
URL:https://business.beatricechamber.com/events/details/community-coffee-10-07-2011-5119
END:VEVENT

END:VCALENDAR
