BEGIN:VCALENDAR
VERSION:2.0
PRODID:-//ChamberMaster//Event Calendar 2.0//EN
METHOD:PUBLISH
X-PUBLISHED-TTL:P3D
REFRESH-INTERVAL:P3D
CALSCALE:GREGORIAN
BEGIN:VEVENT
DTSTART;VALUE=DATE:20111014
DTEND;VALUE=DATE:20111015
TRANSP:TRANSPARENT
X-MICROSOFT-CDO-ALLDAYEVENT:TRUE
SUMMARY:Community Coffee
DESCRIPTION:Community Coffee\n\nat Wymore Country Club\, 1700 West D Street\, Wymore\n\n\n\nFriday\, October 14\n\n10 am
X-ALT-DESC;FMTTYPE=text/html:Community Coffee<br />\nat Wymore Country Club\, 1700 West D Street\, Wymore<br />\n<br />\nFriday\, October 14<br />\n10 am
LOCATION:
UID:e.41.5181
SEQUENCE:3
DTSTAMP:20260424T110255Z
URL:https://business.beatricechamber.com/events/details/community-coffee-10-14-2011-5181
END:VEVENT

END:VCALENDAR
