BEGIN:VCALENDAR
VERSION:2.0
PRODID:-//ChamberMaster//Event Calendar 2.0//EN
METHOD:PUBLISH
X-PUBLISHED-TTL:P3D
REFRESH-INTERVAL:P3D
CALSCALE:GREGORIAN
BEGIN:VEVENT
DTSTART;VALUE=DATE:20120203
DTEND;VALUE=DATE:20120204
TRANSP:TRANSPARENT
X-MICROSOFT-CDO-ALLDAYEVENT:TRUE
SUMMARY:Community Coffee: Southern Gage County Community Pride Group
DESCRIPTION:Southern Gage Community Pride Group Community Coffee:\n\nFriday\, February 3\n\n10:30 am\n\n\n\nWymore Good Samaritan Center\, 105 East D Street\, Wymore
X-ALT-DESC;FMTTYPE=text/html:Southern Gage Community Pride Group Community Coffee:<br />\nFriday\, February 3<br />\n10:30 am<br />\n<br />\nWymore Good Samaritan Center\, 105 East D Street\, Wymore
LOCATION:
UID:e.41.5291
SEQUENCE:3
DTSTAMP:20260422T185513Z
URL:https://business.beatricechamber.com/events/details/community-coffee-southern-gage-county-community-pride-group-02-03-2012-5291
END:VEVENT

END:VCALENDAR
