BEGIN:VCALENDAR
VERSION:2.0
PRODID:-//ChamberMaster//Event Calendar 2.0//EN
METHOD:PUBLISH
X-PUBLISHED-TTL:P3D
REFRESH-INTERVAL:P3D
CALSCALE:GREGORIAN
BEGIN:VEVENT
DTSTART:20090729T153000Z
DTEND:20090729T183000Z
X-MICROSOFT-CDO-ALLDAYEVENT:FALSE
SUMMARY:Community Development Specialist speaks at One-Stop community Resource Center
DESCRIPTION:"Family Matters" will be the topic of two sessions conducted byDr. John DeFrain\, professor and extension family and community development specialistUNL Department of Family and Consumer Sciences\, College of Education and Human Sciences Two one-hour sessions will be delivered at 10:30 am and 1:30 amWednesday\, April 29\, 2009 The event is free and open to the public.SCC Beatrice Campus - Adams Hall
X-ALT-DESC;FMTTYPE=text/html:<div>&quot\;Family Matters&quot\; will be the topic of two sessions conducted by</div><div>Dr. John DeFrain\, professor and extension family and community development specialist</div><div>UNL Department of Family and Consumer Sciences\, College of Education and Human Sciences</div><div>&nbsp\;</div><div>Two one-hour sessions will be delivered at 10:30 am and 1:30 am</div><div>Wednesday\, April 29\, 2009</div><div>&nbsp\;</div><div>The event is free and open to the public.</div><div>SCC Beatrice Campus - Adams Hall</div>
LOCATION:
UID:e.41.1155
SEQUENCE:3
DTSTAMP:20260426T025328Z
URL:https://business.beatricechamber.com/events/details/community-development-specialist-speaks-at-one-stop-community-resource-center-07-29-2009-1155
END:VEVENT

END:VCALENDAR
