BEGIN:VCALENDAR
VERSION:2.0
PRODID:-//ChamberMaster//Event Calendar 2.0//EN
METHOD:PUBLISH
X-PUBLISHED-TTL:P3D
REFRESH-INTERVAL:P3D
CALSCALE:GREGORIAN
BEGIN:VEVENT
DTSTART;VALUE=DATE:20110916
DTEND;VALUE=DATE:20110919
TRANSP:TRANSPARENT
X-MICROSOFT-CDO-ALLDAYEVENT:TRUE
SUMMARY:Community Players: A Funny Thing Happened on the Way to the Forum
DESCRIPTION:Community Players presents:\n\n\n\n"A Funny Thing Happened on the Way to the Forum"\n\n\n\nSeptember 9\, 10\, 16\, 17 at 7:30 pm\n\nSeptember 11\, 18 at 2:00 pm\n\n\n\n402-228-1801\n\n412 Ella Street\, Beatrice\, NE\n\nwww.beatricecommunityplayers.com\n\n\n\nThis production sponsored by The Hevelone Foundation and Nebraska Arts Council/Nebraska Cultural Endowment
X-ALT-DESC;FMTTYPE=text/html:Community Players presents:<br />\n<br />\n&quot\;A Funny Thing Happened on the Way to the Forum&quot\;<br />\n<br />\nSeptember 9\, 10\, 16\, 17 at 7:30 pm<br />\nSeptember 11\, 18 at 2:00 pm<br />\n<br />\n402-228-1801<br />\n412 Ella Street\, Beatrice\, NE<br />\nwww.beatricecommunityplayers.com<br />\n<br />\nThis production sponsored by The Hevelone Foundation and Nebraska Arts Council/Nebraska Cultural Endowment
LOCATION:
UID:e.41.5079
SEQUENCE:3
DTSTAMP:20260424T123356Z
URL:https://business.beatricechamber.com/events/details/community-players-a-funny-thing-happened-on-the-way-to-the-forum-09-16-2011-5079
END:VEVENT

END:VCALENDAR
