BEGIN:VCALENDAR
VERSION:2.0
PRODID:-//ChamberMaster//Event Calendar 2.0//EN
METHOD:PUBLISH
X-PUBLISHED-TTL:P3D
REFRESH-INTERVAL:P3D
CALSCALE:GREGORIAN
BEGIN:VEVENT
DTSTART;VALUE=DATE:20110712
DTEND;VALUE=DATE:20110713
TRANSP:TRANSPARENT
X-MICROSOFT-CDO-ALLDAYEVENT:TRUE
SUMMARY:Community Players Annual Volunteer Celebration Potluck
DESCRIPTION:Starts at 6:30 p.m. at the theater\, 412 Ella St.  CP participants during the recently completed 2010-2011 season invited to this free event\, and anyone with an interest in the organization.\n\n\n\nFor more information\, call 402-228-1801 or visit online at www.beatricecommunityplayers.com
X-ALT-DESC;FMTTYPE=text/html:Starts at 6:30 p.m. at the theater\, 412 Ella St.&nbsp\; CP participants during the recently completed 2010-2011 season invited to this free event\, and anyone with an interest in the organization.<br />\n<br />\nFor more information\, call 402-228-1801 or visit online at www.beatricecommunityplayers.com<br />\n<br />\n
LOCATION:
UID:e.41.4958
SEQUENCE:3
DTSTAMP:20260424T153438Z
URL:https://business.beatricechamber.com/events/details/community-players-annual-volunteer-celebration-potluck-07-12-2011-4958
END:VEVENT

END:VCALENDAR
