BEGIN:VCALENDAR
VERSION:2.0
PRODID:-//ChamberMaster//Event Calendar 2.0//EN
METHOD:PUBLISH
X-PUBLISHED-TTL:P3D
REFRESH-INTERVAL:P3D
CALSCALE:GREGORIAN
BEGIN:VEVENT
DTSTART;VALUE=DATE:20110829
DTEND;VALUE=DATE:20110830
TRANSP:TRANSPARENT
X-MICROSOFT-CDO-ALLDAYEVENT:TRUE
SUMMARY:Community Players Auditions
DESCRIPTION:Community Players 412 Ella St. in Beatrice will hold auditions for the play\, "Moonlight and Magnolias" at 7 p.m.  The show requires a cast of three men and one woman.  Performances are October 21-23 and 28-30\, 2011.\n\n\n\nFor a complete description of the characters\, go to www.beatricecommunityplayers.com For more information about the show call 402-2238-1801.
X-ALT-DESC;FMTTYPE=text/html:Community Players 412 Ella St.&nbsp\;in Beatrice will hold auditions for the play\, &quot\;Moonlight and Magnolias&quot\; at 7 p.m.&nbsp\; The show requires a cast of three men and one woman.&nbsp\; Performances are October 21-23 and 28-30\, 2011.<br />\n<br />\nFor a complete description of the characters\, go to <u><a href="http://www.beatricecommunityplayers.com/">www.beatricecommunityplayers.com</a></u> For more information about the show call 402-2238-1801.<span _fck_bookmark="1" style="display: none">&nbsp\;</span>
LOCATION:
UID:e.41.5064
SEQUENCE:3
DTSTAMP:20260424T140338Z
URL:https://business.beatricechamber.com/events/details/community-players-auditions-08-29-2011-5064
END:VEVENT

END:VCALENDAR
