BEGIN:VCALENDAR
VERSION:2.0
PRODID:-//ChamberMaster//Event Calendar 2.0//EN
METHOD:PUBLISH
X-PUBLISHED-TTL:P3D
REFRESH-INTERVAL:P3D
CALSCALE:GREGORIAN
BEGIN:VEVENT
DTSTART;VALUE=DATE:20111024
DTEND;VALUE=DATE:20111026
TRANSP:TRANSPARENT
X-MICROSOFT-CDO-ALLDAYEVENT:TRUE
SUMMARY:Community Players Auditions for "Dear Santa"
DESCRIPTION:Auditions for "Dear Santa"\n\nCommunity Players in Beatrice\n\n\n\nMonday & Tuesday\, October 24 & 25\n\n7 pm\n\n\n\nPlayers Theater\n\n412 Ella Street\n\nBeatrice\, NE  68310\n\n\n\nFor more information\, www.beatricecommunityplayers.com or 402-228-1801
X-ALT-DESC;FMTTYPE=text/html:Auditions for &quot\;Dear Santa&quot\;<br />\nCommunity Players in Beatrice<br />\n<br />\nMonday &amp\; Tuesday\, October 24 &amp\; 25<br />\n7 pm<br />\n<br />\nPlayers Theater<br />\n412 Ella Street<br />\nBeatrice\, NE&nbsp\; 68310<br />\n<br />\nFor more information\, <a href="http://www.beatricecommunityplayers.com">www.beatricecommunityplayers.com</a> or 402-228-1801
LOCATION:
UID:e.41.5199
SEQUENCE:3
DTSTAMP:20260424T111427Z
URL:https://business.beatricechamber.com/events/details/community-players-auditions-for-dear-santa-10-24-2011-5199
END:VEVENT

END:VCALENDAR
