BEGIN:VCALENDAR
VERSION:2.0
PRODID:-//ChamberMaster//Event Calendar 2.0//EN
METHOD:PUBLISH
X-PUBLISHED-TTL:P3D
REFRESH-INTERVAL:P3D
CALSCALE:GREGORIAN
BEGIN:VEVENT
DTSTART;VALUE=DATE:20120220
DTEND;VALUE=DATE:20120221
TRANSP:TRANSPARENT
X-MICROSOFT-CDO-ALLDAYEVENT:TRUE
SUMMARY:Community Players Auditions for "King O' The Moon"
DESCRIPTION:Community Players in Beatrice will hold auditions for the play "King O' The Moon" on February 20 and February 21\, beginning at 7 pm\n\n\n\nAuditions will be held at the Players Theater\, 412 Ella Street\, Beatrice.  The show requires a cast of four men and two women.  Those auditioning will be asked to read from the script.  Performances are April 13-15 and 20-22.\n\n\n\nFor complete description of the characters\, go to www.beatricecommunityplayers.com.  For more information about the show\, call 402-228-1801.
X-ALT-DESC;FMTTYPE=text/html:Community Players in Beatrice will hold auditions for the play &quot\;King O&#39\; The Moon&quot\; on February 20 and February 21\, beginning at 7 pm<br />\n<br />\nAuditions will be held at the Players Theater\, 412 Ella Street\, Beatrice.&nbsp\; The show requires a cast of four men and two women.&nbsp\; Those auditioning will be asked to read from the script.&nbsp\; Performances are April 13-15 and 20-22.<br />\n<br />\nFor complete description of the characters\, go to <a href="http://www.beatricecommunityplayers.com">www.beatricecommunityplayers.com</a>.&nbsp\; For more information about the show\, call 402-228-1801.
LOCATION:
UID:e.41.5325
SEQUENCE:3
DTSTAMP:20260422T185640Z
URL:https://business.beatricechamber.com/events/details/community-players-auditions-for-king-o-the-moon-02-20-2012-5325
END:VEVENT

END:VCALENDAR
