BEGIN:VCALENDAR
VERSION:2.0
PRODID:-//ChamberMaster//Event Calendar 2.0//EN
METHOD:PUBLISH
X-PUBLISHED-TTL:P3D
REFRESH-INTERVAL:P3D
CALSCALE:GREGORIAN
BEGIN:VEVENT
DTSTART:20120710T000000Z
DTEND:20120710T000000Z
X-MICROSOFT-CDO-ALLDAYEVENT:FALSE
SUMMARY:Community Players auditions for "The Marvelous Wonderettes"
DESCRIPTION:Community Players auditions for season-opening musical\, "The Marvelous Wonderettes" They begin at 7 p.m.\, Players Theater\, 412 Ella St.\, Beatrice. No appointments necessary. Performances are Sept. 7-9 and 14-16. Auditions and production crew are open to anyone www.beatricecommunityplayers.com\n\n402-228-1801
X-ALT-DESC;FMTTYPE=text/html:Community Players auditions for season-opening musical\, &quot\;The Marvelous Wonderettes&quot\; They begin at 7 p.m.\, Players Theater\, 412 Ella St.\, Beatrice. No appointments necessary. Performances are Sept. 7-9 and 14-16. Auditions and production crew are open to anyone <a href="http://www.beatricecommunity">www.beatricecommunity</a>players.com<br />\n402-228-1801
LOCATION:
UID:e.41.6316
SEQUENCE:3
DTSTAMP:20260422T114053Z
URL:https://business.beatricechamber.com/events/details/community-players-auditions-for-the-marvelous-wonderettes-07-09-2012-6316
END:VEVENT

END:VCALENDAR
