BEGIN:VCALENDAR
VERSION:2.0
PRODID:-//ChamberMaster//Event Calendar 2.0//EN
METHOD:PUBLISH
X-PUBLISHED-TTL:P3D
REFRESH-INTERVAL:P3D
CALSCALE:GREGORIAN
BEGIN:VEVENT
DTSTART;VALUE=DATE:20120205
DTEND;VALUE=DATE:20120206
TRANSP:TRANSPARENT
X-MICROSOFT-CDO-ALLDAYEVENT:TRUE
SUMMARY:Community Players: "Fashions of the Roaring 20s"
DESCRIPTION:Community Players free community conversations event "Fashions of the Roaring 20s"\n\n\n\nSunday\, February 5\n\n2 pm\n\n\n\n412 Ella Street\, beatrice\n\n\n\nRelating to the upcoming production of "Thoroughly Modern Millie\," which is set in the 1920s.  Presented by Sue McLain of Yesterday's Lady.    (Thoroughly Modern Millie runs Feb 17-19 and 23-26)\n\n\n\n402-228-1802\n\nwww.beatricecommunityplayers.com
X-ALT-DESC;FMTTYPE=text/html:Community Players free community conversations event &quot\;Fashions of the Roaring 20s&quot\;<br />\n<br />\nSunday\, February 5<br />\n2 pm<br />\n<br />\n412 Ella Street\, beatrice<br />\n<br />\nRelating to the upcoming production of &quot\;Thoroughly Modern Millie\,&quot\; which is set in the 1920s.&nbsp\; Presented by Sue McLain of Yesterday&#39\;s Lady.&nbsp\;&nbsp\;&nbsp\; (Thoroughly Modern Millie runs Feb 17-19 and 23-26)<br />\n<br />\n402-228-1802<br />\nwww.beatricecommunityplayers.com<br />\n
LOCATION:
UID:e.41.5296
SEQUENCE:3
DTSTAMP:20260422T185830Z
URL:https://business.beatricechamber.com/events/details/community-players-fashions-of-the-roaring-20s-02-05-2012-5296
END:VEVENT

END:VCALENDAR
