BEGIN:VCALENDAR
VERSION:2.0
PRODID:-//ChamberMaster//Event Calendar 2.0//EN
METHOD:PUBLISH
X-PUBLISHED-TTL:P3D
REFRESH-INTERVAL:P3D
CALSCALE:GREGORIAN
BEGIN:VEVENT
DTSTART;VALUE=DATE:20100508
DTEND;VALUE=DATE:20100509
TRANSP:TRANSPARENT
X-MICROSOFT-CDO-ALLDAYEVENT:TRUE
SUMMARY:Community Players Free Preview of Upcoming Season
DESCRIPTION:Community Players presents:Free Preview of the Upcoming Season Sunday\, May 87 p.m. Community Players Theater412 Ella Street The public is invited to this free performance preview of scenes from the upcoming 2010-2011 Season.  This event officially kicks off the theater's season ticket drive made possible by WalMart\, Colleen's Catering\, Noon Sertoma Club\, and Sunrise Sertoma Club.  Complimentary refreshments will be provided. For more information\, call 228-1801 or visit www.beatricecommunityplayers.com.
X-ALT-DESC;FMTTYPE=text/html:<div><span style="font-size: medium"><em>Community Players presents:</em></span></div><div><span style="font-size: medium">Free Preview of the Upcoming Season</span></div><div>&nbsp\;</div><div><span style="font-size: medium">Sunday\, May 8</span></div><div><span style="font-size: medium">7 p.m.</span></div><div>&nbsp\;</div><div><span style="font-size: medium">Community Players Theater</span></div><div><span style="font-size: medium">412 Ella Street</span></div><div>&nbsp\;</div><div><span style="font-size: small">The public is invited to this free performance preview of scenes from the upcoming 2010-2011 Season.&nbsp\; This event officially kicks off the theater's season ticket drive made possible by WalMart\, Colleen's Catering\, Noon Sertoma Club\, and Sunrise Sertoma Club.&nbsp\; Complimentary refreshments will be provided.</span></div><div>&nbsp\;</div><div><span style="font-size: small">For more information\, call 228-1801 or visit </span><a href="http://www.beatricecommunityplayers.com"><span style="font-size: small">www.beatricecommunityplayers.com</span></a><span style="font-size: small">.</span></div>
LOCATION:
UID:e.41.1977
SEQUENCE:3
DTSTAMP:20260425T123544Z
URL:https://business.beatricechamber.com/events/details/community-players-free-preview-of-upcoming-season-05-08-2010-1977
END:VEVENT

END:VCALENDAR
