BEGIN:VCALENDAR
VERSION:2.0
PRODID:-//ChamberMaster//Event Calendar 2.0//EN
METHOD:PUBLISH
X-PUBLISHED-TTL:P3D
REFRESH-INTERVAL:P3D
CALSCALE:GREGORIAN
BEGIN:VEVENT
DTSTART;VALUE=DATE:20111111
DTEND;VALUE=DATE:20111114
TRANSP:TRANSPARENT
X-MICROSOFT-CDO-ALLDAYEVENT:TRUE
SUMMARY:Community Players "Good Good Troup on Bad Bad Island"
DESCRIPTION:Community Players' ACTING UP program presents:\n\n"Good Good Trouble on Bad Bad Island"\n\n\n\nNovember 11 at 7:30\n\nNovember 12 at 2:00 and 7:30\n\nNovember 13 at 2:00\n\n\n\n$10 Adults\; $5 Students\n\nBox office open Noon-5:30 and 2 hours before performances\n\n\n\n412 Ella Street\, Beatrice\, NE\n\n402-228-1801\n\nwww.beatricecommunityplayers.com
X-ALT-DESC;FMTTYPE=text/html:Community Players&#39\; ACTING UP program presents:<br />\n&quot\;Good Good Trouble on Bad Bad Island&quot\;<br />\n<br />\nNovember 11 at 7:30<br />\nNovember 12 at 2:00 and 7:30<br />\nNovember 13 at 2:00<br />\n<br />\n$10 Adults\; $5 Students<br />\nBox office open Noon-5:30 and 2 hours before performances<br />\n<br />\n412 Ella Street\, Beatrice\, NE<br />\n402-228-1801<br />\n<a href="http://www.beatricecommunityplayers.com">www.beatricecommunityplayers.com</a>
LOCATION:
UID:e.41.5235
SEQUENCE:3
DTSTAMP:20260424T100128Z
URL:https://business.beatricechamber.com/events/details/community-players-good-good-troup-on-bad-bad-island-11-11-2011-5235
END:VEVENT

END:VCALENDAR
