BEGIN:VCALENDAR
VERSION:2.0
PRODID:-//ChamberMaster//Event Calendar 2.0//EN
METHOD:PUBLISH
X-PUBLISHED-TTL:P3D
REFRESH-INTERVAL:P3D
CALSCALE:GREGORIAN
BEGIN:VEVENT
DTSTART;VALUE=DATE:20110408
DTEND;VALUE=DATE:20110410
TRANSP:TRANSPARENT
X-MICROSOFT-CDO-ALLDAYEVENT:TRUE
SUMMARY:Community Players performance of "The Boys next door"
DESCRIPTION:April 8\, 9\, 15\, 16 - 7:30 p.m.\n\n\n\nPhone: 228-1801\n\nAddress: 412 Ella St.\, Beatrice\n\n\n\nwww.beatricecommunityplayers.com
X-ALT-DESC;FMTTYPE=text/html:April 8\, 9\, 15\, 16 - 7:30 p.m.<br />\n<br />\nPhone: 228-1801<br />\nAddress: 412 Ella St.\, Beatrice<br />\n<br />\nwww.beatricecommunityplayers.com
LOCATION:
UID:e.41.4561
SEQUENCE:3
DTSTAMP:20260424T195504Z
URL:https://business.beatricechamber.com/events/details/community-players-performance-of-the-boys-next-door-04-08-2011-4561
END:VEVENT

END:VCALENDAR
