BEGIN:VCALENDAR
VERSION:2.0
PRODID:-//ChamberMaster//Event Calendar 2.0//EN
METHOD:PUBLISH
X-PUBLISHED-TTL:P3D
REFRESH-INTERVAL:P3D
CALSCALE:GREGORIAN
BEGIN:VEVENT
DTSTART;VALUE=DATE:20110311
DTEND;VALUE=DATE:20110312
TRANSP:TRANSPARENT
X-MICROSOFT-CDO-ALLDAYEVENT:TRUE
SUMMARY:Community Players performance of "The Receptionist"
DESCRIPTION:Starts at 7:30 p.m.\n\n\n\nLocation: 412 Ella St.\, Beatrice\; a one-act play by Adam Bock.\n\n\n\nTickets: $10\; available at the door beginning two hours prior to performance. No advance reservations.\n\n\n\nFundraiser for Community Players' entry in the 2011 Nebraska Association of Community Theatres One-Act Festival. 402-228-1801.\n\n\n\nwww.beatricecommunityplayers.com
X-ALT-DESC;FMTTYPE=text/html:Starts at 7:30 p.m.<br />\n<br />\nLocation: 412 Ella St.\, Beatrice\; a one-act play by Adam Bock.<br />\n<br />\nTickets: $10\; available at the door beginning two hours prior to performance. No advance reservations.<br />\n<br />\nFundraiser for Community Players&#39\; entry in the 2011 Nebraska Association of Community Theatres One-Act Festival. 402-228-1801.<br />\n<br />\n<a href="http://www.beatricecommunityplayers.com">www.beatricecommunityplayers.com</a>
LOCATION:
UID:e.41.4218
SEQUENCE:3
DTSTAMP:20260424T211948Z
URL:https://business.beatricechamber.com/events/details/community-players-performance-of-the-receptionist-03-11-2011-4218
END:VEVENT

END:VCALENDAR
