BEGIN:VCALENDAR
VERSION:2.0
PRODID:-//ChamberMaster//Event Calendar 2.0//EN
METHOD:PUBLISH
X-PUBLISHED-TTL:P3D
REFRESH-INTERVAL:P3D
CALSCALE:GREGORIAN
BEGIN:VEVENT
DTSTART;VALUE=DATE:20111208
DTEND;VALUE=DATE:20111212
TRANSP:TRANSPARENT
X-MICROSOFT-CDO-ALLDAYEVENT:TRUE
SUMMARY:Community Players Presents "Dear Santa"
DESCRIPTION:Community Players to present holiday show for the whole family!\n\n"Dear Santa"\n\n\n\nDecember 8-10 at 7:30 pm\n\nDecember 11 at 2 pm\n\n\n\nThe box office\, located at 412 Ella Street\, Beatrice\, is open weekdays from noon-5:30 pm and two hours prior to performances.  Reservations can also be made by calling 402-228-1801 or by logging onto www.beatricecommunityplayers.com.\n\n\n\n\n\nTicket prices:  $15 for adults and $10 for students.  Discounts are available for groups of 10 or more.  The production is sponsored by Pinnacle Bank.
X-ALT-DESC;FMTTYPE=text/html:Community Players to present holiday show for the whole family!<br />\n&quot\;Dear Santa&quot\;<br />\n<br />\nDecember 8-10 at 7:30 pm<br />\nDecember 11 at 2 pm<br />\n<br />\nThe box office\, located at 412 Ella Street\, Beatrice\, is open weekdays from noon-5:30 pm and two hours prior to performances.&nbsp\; Reservations can also be made by calling 402-228-1801 or by logging onto www.beatricecommunityplayers.com.<br />\n<br />\n<br />\nTicket prices:&nbsp\; $15 for adults and $10 for students.&nbsp\; Discounts are available for groups of 10 or more.&nbsp\; The production is sponsored by Pinnacle Bank.
LOCATION:
UID:e.41.5267
SEQUENCE:3
DTSTAMP:20260424T083257Z
URL:https://business.beatricechamber.com/events/details/community-players-presents-dear-santa-12-08-2011-5267
END:VEVENT

END:VCALENDAR
