BEGIN:VCALENDAR
VERSION:2.0
PRODID:-//ChamberMaster//Event Calendar 2.0//EN
METHOD:PUBLISH
X-PUBLISHED-TTL:P3D
REFRESH-INTERVAL:P3D
CALSCALE:GREGORIAN
BEGIN:VEVENT
DTSTART;VALUE=DATE:20120223
DTEND;VALUE=DATE:20120227
TRANSP:TRANSPARENT
X-MICROSOFT-CDO-ALLDAYEVENT:TRUE
SUMMARY:Community Players: "Thoroughly Modern Millie"
DESCRIPTION:Community Players Winter Musical "Thoroughly Modern Millie"\n\n\n\nMusical Comedy Extravaganza!\n\n\n\nFebruary 17: 7:30 pm\n\nFebruary 18: 7:30 pm\n\nFebruary 19: 2 pm\n\n\n\nFebruary 23: 7:30 pm\n\nFebruary 24: 7:30 pm\n\nFebruary 25: 7:30 pm\n\nFebruary 26: 2 pm\n\n\n\n\n\nThe box office\, located at 412 Ella Street\, Beatrice\, is open weekdays from noon to 5:30 pm and two hours prior to performances.  Reservations can also be made by calling 402-228-1801 or online at www.beatricecommunityplayers.com.\n\n\n\nTicket prices are $18 for adults and $10 for students.  Discounts are available for groups of 10 or more.  The production is sponsored by Security First Bank.
X-ALT-DESC;FMTTYPE=text/html:Community Players Winter Musical &quot\;Thoroughly Modern Millie&quot\;<br />\n<br />\nMusical Comedy Extravaganza!<br />\n<br />\nFebruary 17: 7:30 pm<br />\nFebruary 18: 7:30 pm<br />\nFebruary 19: 2 pm<br />\n<br />\nFebruary 23: 7:30 pm<br />\nFebruary 24: 7:30 pm<br />\nFebruary 25: 7:30 pm<br />\nFebruary 26: 2 pm<br />\n<br />\n<br />\nThe box office\, located at 412 Ella Street\, Beatrice\, is open weekdays from noon to 5:30 pm and two hours prior to performances.&nbsp\; Reservations can also be made by calling 402-228-1801 or online at www.beatricecommunityplayers.com.<br />\n<br />\nTicket prices are $18 for adults and $10 for students.&nbsp\; Discounts are available for groups of 10 or more.&nbsp\; The production is sponsored by Security First Bank.
LOCATION:
UID:e.41.5302
SEQUENCE:3
DTSTAMP:20260422T185400Z
URL:https://business.beatricechamber.com/events/details/community-players-thoroughly-modern-millie-02-23-2012-5302
END:VEVENT

END:VCALENDAR
