BEGIN:VCALENDAR
VERSION:2.0
PRODID:-//ChamberMaster//Event Calendar 2.0//EN
METHOD:PUBLISH
X-PUBLISHED-TTL:P3D
REFRESH-INTERVAL:P3D
CALSCALE:GREGORIAN
BEGIN:VEVENT
DTSTART;VALUE=DATE:20110718
DTEND;VALUE=DATE:20110719
TRANSP:TRANSPARENT
X-MICROSOFT-CDO-ALLDAYEVENT:TRUE
SUMMARY:Community Players to hold Auditions for Classic Musical Comedy
DESCRIPTION:Community Players in Beatrice will hold auditions July 18-19 for the classic Broadway musical comedy\, "A Funny Thing Happened on the Way to the Forum."  Auditions begin at 7 p.m. and will be held at the Players Theater\, 412 Ella St.\, Beatrice.  No appointments necessary.  Auditions are open to anyone and there is no charge to participate in the cast or crew of a show. \n\n\n\nThe show requires a cast of seven men\, two women\, plus a medium sized ensemble to play various roles for those 14 and older.  Those auditioning will be asked to sing no more than one minute of a song of their choice and read from the script.  Performances are Sept. 9-11 and 16-18\, 2011.\n\n\n\nFor a complete description of the characters\, go to www.beatricecommunityplayers.com.  For more information about the show\, call 402-228-1801.
X-ALT-DESC;FMTTYPE=text/html:Community Players in Beatrice will hold auditions July 18-19 for the classic Broadway musical comedy\, &quot\;A Funny Thing Happened on the Way to the Forum.&quot\;&nbsp\; Auditions begin at 7 p.m. and will be held at the Players Theater\, 412 Ella St.\, Beatrice.&nbsp\; No appointments necessary.&nbsp\; Auditions are open to anyone and there is no charge to participate in the cast or&nbsp\;crew of a show.&nbsp\;<br />\n<br />\nThe show requires a cast of seven men\, two women\, plus a medium sized ensemble to play various roles for those 14 and older.&nbsp\; Those auditioning will be asked to sing no more than one minute of a song of their choice and read from the script.&nbsp\; Performances are Sept. 9-11 and 16-18\, 2011.<br />\n<br />\nFor a complete description of the characters\, go to <a href="http://www.beatricecommunityplayers.com">www.beatricecommunityplayers.com</a>.&nbsp\; For more information about the show\, call 402-228-1801.
LOCATION:
UID:e.41.4967
SEQUENCE:3
DTSTAMP:20260424T153438Z
URL:https://business.beatricechamber.com/events/details/community-players-to-hold-auditions-for-classic-musical-comedy-07-18-2011-4967
END:VEVENT

END:VCALENDAR
