BEGIN:VCALENDAR
VERSION:2.0
PRODID:-//ChamberMaster//Event Calendar 2.0//EN
METHOD:PUBLISH
X-PUBLISHED-TTL:P3D
REFRESH-INTERVAL:P3D
CALSCALE:GREGORIAN
BEGIN:VEVENT
DTSTART;VALUE=DATE:20120416
DTEND;VALUE=DATE:20120418
TRANSP:TRANSPARENT
X-MICROSOFT-CDO-ALLDAYEVENT:TRUE
SUMMARY:Community Players to hold auditions for summer show
DESCRIPTION:Community Players in Beatrice will hold auditions for the summer farce\, "Wrong Window".\n\nThe show requires five men and three women. Those auditioning will be asked to read from the script. Performances are June 1-3 and June 8-10.\n\nAuditioning is open to anyone.
X-ALT-DESC;FMTTYPE=text/html:Community Players in Beatrice will hold auditions for the summer farce\, &quot\;Wrong Window&quot\;.<br />\nThe show requires five men and three women. Those auditioning will be asked to read from the script. Performances are June 1-3 and June 8-10.<br />\nAuditioning is open to anyone.
LOCATION:Players Theatre\, 412 Ellas St.\, Beatrice
UID:e.41.5466
SEQUENCE:3
DTSTAMP:20260422T155132Z
URL:https://business.beatricechamber.com/events/details/community-players-to-hold-auditions-for-summer-show-04-16-2012-5466
END:VEVENT

END:VCALENDAR
