BEGIN:VCALENDAR
VERSION:2.0
PRODID:-//ChamberMaster//Event Calendar 2.0//EN
METHOD:PUBLISH
X-PUBLISHED-TTL:P3D
REFRESH-INTERVAL:P3D
CALSCALE:GREGORIAN
BEGIN:VEVENT
DTSTART;VALUE=DATE:20111124
DTEND;VALUE=DATE:20111125
TRANSP:TRANSPARENT
X-MICROSOFT-CDO-ALLDAYEVENT:TRUE
SUMMARY:Community Thanksgiving Dinner
DESCRIPTION:11am-1pm \n\nat The Salvation Army\n\n120 S. 7th\, Beatrice\, Ne \n\nReservations are encouraged\n\n402-223-3341
X-ALT-DESC;FMTTYPE=text/html:11am-1pm&nbsp\;<br />\nat The Salvation Army<br />\n120 S. 7th\, Beatrice\, Ne&nbsp\;<br />\nReservations are encouraged<br />\n402-223-3341<br />\n<br />\n
LOCATION:
UID:e.41.5257
SEQUENCE:3
DTSTAMP:20260424T095948Z
URL:https://business.beatricechamber.com/events/details/community-thanksgiving-dinner-11-24-2011-5257
END:VEVENT

END:VCALENDAR
