BEGIN:VCALENDAR
VERSION:2.0
PRODID:-//ChamberMaster//Event Calendar 2.0//EN
METHOD:PUBLISH
X-PUBLISHED-TTL:P3D
REFRESH-INTERVAL:P3D
CALSCALE:GREGORIAN
BEGIN:VEVENT
DTSTART:20101125T170000Z
DTEND:20101125T190000Z
X-MICROSOFT-CDO-ALLDAYEVENT:FALSE
SUMMARY:Community Thansgiving Dinner
DESCRIPTION:The Salvation Army\, 120 S. 7th St\, Beatrice. Everyone is invited and it's free! Reservations are encouraged please call 223-3341. If you would like to havr a meal delivered\, please call 223-3341. Sponsored by Beatrice 1450 and The Salvation Army.
X-ALT-DESC;FMTTYPE=text/html:<span style="font-size: 14px\;">The Salvation Army\, 120 S. 7th St\, Beatrice. Everyone is invited and it&#39\;s free! Reservations are encouraged please call 223-3341. If you would like to havr a meal delivered\, please call 223-3341. Sponsored by Beatrice 1450 and The Salvation Army.</span>
LOCATION:
UID:e.41.2853
SEQUENCE:3
DTSTAMP:20260425T032341Z
URL:https://business.beatricechamber.com/events/details/community-thansgiving-dinner-11-25-2010-2853
END:VEVENT

END:VCALENDAR
