BEGIN:VCALENDAR
VERSION:2.0
PRODID:-//ChamberMaster//Event Calendar 2.0//EN
METHOD:PUBLISH
X-PUBLISHED-TTL:P3D
REFRESH-INTERVAL:P3D
CALSCALE:GREGORIAN
BEGIN:VEVENT
DTSTART;VALUE=DATE:20090828
DTEND;VALUE=DATE:20090831
TRANSP:TRANSPARENT
X-MICROSOFT-CDO-ALLDAYEVENT:TRUE
SUMMARY:Community Theatre Convention
DESCRIPTION:CP hosts state community theatre convention Educational event open to everyone CP is hosting the Nebraska Association of Community Theatre (NACT) state convention on Aug. 28-30.  This three day event will be filled with terrific educational workshops\, entertainment and valuable networking opportunities.\n \nYou do not need to be a member of NACT to attend the convention.  Workshops\, taught by qualified professionals in their fields will cover the following topics:\nStage management\nBudgeting\nDirecting\nActing\nFacility design\nBasic stage lighting\nRoundtable discussion of topics\n \nRegistration for first time attendees of a NACT event is only $35 for all three days! Click here to see a brochure with more details about the convention.
X-ALT-DESC;FMTTYPE=text/html:<div><table id="content_LETTER.BLOCK20" hidefocus="hidefocus" tabindex="0" cellspacing="0" cellpadding="5" width="100%" border="0" aria-posinset="0" aria-setsize="0" aria-level="0" style="margin-bottom: 10px"><tbody><tr><td align="left" width="99%" style="font-size: 14pt\; color: #1f4858\; font-family: Arial\,Helvetica\,sans-serif"><font face="Arial\,Helvetica\,sans-serif" color="#1f4858" size="4" style="font-size: 14pt\; color: #1f4858\; font-family: Arial\,Helvetica\,sans-serif">CP&nbsp\;hosts state community theatre convention <div style="font-size: 10pt\; color: #d78519\; font-family: Arial\,Helvetica\,sans-serif" align="left"><font face="Arial\,Helvetica\,sans-serif" color="#d78519" size="2" style="font-size: 10pt\; color: #d78519\; font-family: Arial\,Helvetica\,sans-serif"><b>Educational event open to everyone</b></font></div></font></td></tr><tr><td align="left" style="font-size: 10pt\; color: #748b84\; font-family: Arial\,Helvetica\,sans-serif"><div><font face="Arial\,Helvetica\,sans-serif" color="#748b84" size="2" style="font-size: 10pt\; color: #748b84\; font-family: Arial\,Helvetica\,sans-serif">&nbsp\;CP is hosting the Nebraska Association of Community Theatre (NACT) state convention on Aug. 28-30.&nbsp\; This three day event will be filled with terrific educational workshops\, entertainment and valuable networking opportunities.<br />&nbsp\;<br />You do not need to be a member of NACT to attend the convention.&nbsp\; Workshops\, taught by qualified professionals in their fields will cover the following topics:<br />Stage management<br />Budgeting<br />Directing<br />Acting<br />Facility design<br />Basic stage lighting<br />Roundtable discussion of topics<br />&nbsp\;<br />Registration for first time attendees of a NACT event is only $35 for all three days!&nbsp\;</font></div><div><font face="Arial\,Helvetica\,sans-serif" color="#748b84" size="2" style="font-size: 10pt\; color: #748b84\; font-family: Arial\,Helvetica\,sans-serif"><a title="http://rs6.net/tn.jsp?et=1102654379317&amp\;s=459&amp\;e=0018AoTMNTq_fAqBrYvXfTCPzj0fn9JJ1wSX6bL1luCQnIOEHBPaybMWFmJsv-b2aqUFM0zEKTKSARYqnoAVFmkVeb6_q-b2YYdSJ_ThUuGcDZOcdtzBlMQZErOwf4P6efIHSVGAPz92y_ZODjA09RJ0t9SWca8fcog9VI68yi2CrmgaDDC5v3o0w==" href="http://rs6.net/tn.jsp?et=1102654379317&amp\;s=459&amp\;e=0018AoTMNTq_fAqBrYvXfTCPzj0fn9JJ1wSX6bL1luCQnIOEHBPaybMWFmJsv-b2aqUFM0zEKTKSARYqnoAVFmkVeb6_q-b2YYdSJ_ThUuGcDZOcdtzBlMQZErOwf4P6efIHSVGAPz92y_ZODjA09RJ0t9SWca8fcog9VI68yi2CrmgaDDC5v3o0w==" target="_blank" track="on" linktype="link">Click here to see a brochure with more details about the convention.</a></font></div></td></tr></tbody></table></div>
LOCATION:
UID:e.41.1343
SEQUENCE:3
DTSTAMP:20260426T011826Z
URL:https://business.beatricechamber.com/events/details/community-theatre-convention-08-28-2009-1343
END:VEVENT

END:VCALENDAR
