BEGIN:VCALENDAR
VERSION:2.0
PRODID:-//ChamberMaster//Event Calendar 2.0//EN
METHOD:PUBLISH
X-PUBLISHED-TTL:P3D
REFRESH-INTERVAL:P3D
CALSCALE:GREGORIAN
BEGIN:VEVENT
DTSTART;VALUE=DATE:20110313
DTEND;VALUE=DATE:20110314
TRANSP:TRANSPARENT
X-MICROSOFT-CDO-ALLDAYEVENT:TRUE
SUMMARY:Concert "Across the Ages"
DESCRIPTION:The Beatrice Regional Orchestra will present a variety of musical styles in their third concert of the season entitled "Across the Ages." The concert will feature music from well known composers from 1600 to the present as Bach\, Mozart\, Haydn\, Bizet\, Debussy and Del Borgo.\n\n\n\nSunday\, March 13\, at 2 p.m.\n\n\n\nLocation: Hevelone Center at Beatrice High School\n\n\n\nDoors will open at 1:30 p.m. and tickets can be purchased at the door.\n\nTickets: Adults - $5\; Senior citizens - $3\; Students - $2.\n\n\n\nFor more information\, contact Kevin Boesiger at 402-223-3348 or email at composerbo@windstream.net
X-ALT-DESC;FMTTYPE=text/html:The Beatrice Regional Orchestra will present a variety of musical styles in their third concert of the season entitled &quot\;Across the Ages.&quot\; The concert will feature music from well known composers from 1600 to the present as Bach\, Mozart\, Haydn\, Bizet\, Debussy and Del Borgo.<br />\n<br />\n<strong>Sunday\, March 13\, at 2 p.m.</strong><br />\n<br />\n<strong>Location: </strong>Hevelone Center at Beatrice High School<br />\n<br />\nDoors will open at 1:30 p.m. and tickets can be purchased at the door.<br />\n<strong>Tickets:</strong> Adults - $5\; Senior citizens - $3\; Students - $2.<br />\n<br />\nFor more information\, contact Kevin Boesiger at 402-223-3348 or email at composerbo@windstream.net
LOCATION:
UID:e.41.4226
SEQUENCE:3
DTSTAMP:20260424T212455Z
URL:https://business.beatricechamber.com/events/details/concert-across-the-ages-03-13-2011-4226
END:VEVENT

END:VCALENDAR
