BEGIN:VCALENDAR
VERSION:2.0
PRODID:-//ChamberMaster//Event Calendar 2.0//EN
METHOD:PUBLISH
X-PUBLISHED-TTL:P3D
REFRESH-INTERVAL:P3D
CALSCALE:GREGORIAN
BEGIN:VEVENT
DTSTART;VALUE=DATE:20110924
DTEND;VALUE=DATE:20110925
TRANSP:TRANSPARENT
X-MICROSOFT-CDO-ALLDAYEVENT:TRUE
SUMMARY:Contining Education Classes for Nurses
DESCRIPTION:AseraCare Hospice offers free Continuing Education Units for area LPNs and RNs\n\nSaturday\, September 24\n\n\n\nat their agency office in Beatrice\, 200 N 24th\, Suite A\n\n\n\nCEU's will be awarded by Iowa Western Community College.  The college is fully accredited b-y the North Central Association of University and Secondary Schools.  Iowa Western Community College is Iowa Board of Nursing Provider 6.\n\n\n\nArea nurses may attend one or all three sessions.  Each session is worth one credit hour.  To register\, call 402-6262 or Toll Free 877-858-5319.  A light breakfast will be served.\n\n\n\nSessions:\n\n8 - 9 am: "Giving Bad News in a Beautiful Way"\n\n9:15 - 10:15 am: "Symptom Management at End of Life"\n\n10:30 - 11:30 am: "Pain Assessment and Options"
X-ALT-DESC;FMTTYPE=text/html:AseraCare Hospice offers free Continuing Education Units for area LPNs and RNs<br />\nSaturday\, September 24<br />\n<br />\nat their agency office in Beatrice\, 200 N 24th\, Suite A<br />\n<br />\nCEU&#39\;s will be awarded by Iowa Western Community College.&nbsp\; The college is fully accredited b-y the North Central Association of University and Secondary Schools.&nbsp\; Iowa Western Community College is Iowa Board of Nursing Provider 6.<br />\n<br />\nArea nurses may attend one or all three sessions.&nbsp\; Each session is worth one credit hour.&nbsp\; To register\, call 402-6262 or Toll Free 877-858-5319.&nbsp\; A light breakfast will be served.<br />\n<br />\nSessions:<br />\n8 - 9 am: &quot\;Giving Bad News in a Beautiful Way&quot\;<br />\n9:15 - 10:15 am: &quot\;Symptom Management at End of Life&quot\;<br />\n10:30 - 11:30 am: &quot\;Pain Assessment and Options&quot\;<br />\n<br />\n<br />\n
LOCATION:
UID:e.41.5124
SEQUENCE:3
DTSTAMP:20260424T122820Z
URL:https://business.beatricechamber.com/events/details/contining-education-classes-for-nurses-09-24-2011-5124
END:VEVENT

END:VCALENDAR
