BEGIN:VCALENDAR
VERSION:2.0
PRODID:-//ChamberMaster//Event Calendar 2.0//EN
METHOD:PUBLISH
X-PUBLISHED-TTL:P3D
REFRESH-INTERVAL:P3D
CALSCALE:GREGORIAN
BEGIN:VEVENT
DTSTART;VALUE=DATE:20100605
DTEND;VALUE=DATE:20100606
TRANSP:TRANSPARENT
X-MICROSOFT-CDO-ALLDAYEVENT:TRUE
SUMMARY:Continuing Education ''Clues Carved In Stone''
DESCRIPTION:"Clues Carved in Stone" Continuing Education Workshop:  Saturday\, June 5Jackson Hall Conference RoomSCC Beatrice Campus Southeast Community College's Continuing Education Division is sponsoring this workshop\, designed to answer questions people may have regarding symbols carved into cemetery gravestones. Cost is $45 per person. Check-in and continental breakfast begins at 7:30 a.m.  The presentation and discussion forums will be from 8 a.m. - 10 a.m.  Participants will visit the local cemetery from 10:30 a.m. - noon.  Tuition includes workshop materials\, continental breakfast and cemetery field trip.  Field trip rain date is June 6.   For more information or to register\, contact Kelly Morgan\, 228-8244\, 800-233-5027\, extension 1244 or email kmorgan@southeast.edu.  Registration deadline is May 28 or when enrollment limit has been met.
X-ALT-DESC;FMTTYPE=text/html:<div><span style="font-size: medium">&quot\;Clues Carved in Stone&quot\;</span></div><div>&nbsp\;</div><div><span style="font-size: small"><div><span style="font-size: small">Continuing Education Workshop:&nbsp\; Saturday\, June 5</span></div><div><span style="font-size: small">Jackson Hall Conference Room</span></div><div><span style="font-size: small">SCC Beatrice Campus</span></div><div>&nbsp\;</div>Southeast Community College's Continuing Education Division is sponsoring this workshop\, designed to answer questions people may have regarding symbols carved into cemetery gravestones.</span></div><div>&nbsp\;</div><div><span style="font-size: small">Cost is $45 per person.</span></div><div>&nbsp\;</div><div><span style="font-size: small">Check-in and continental breakfast begins at 7:30 a.m.&nbsp\; The presentation and discussion forums will be from 8 a.m. - 10 a.m.&nbsp\; Participants will visit the local cemetery from 10:30 a.m. - noon.&nbsp\; Tuition includes workshop materials\, continental breakfast and cemetery field trip.&nbsp\; Field trip rain date is June 6.&nbsp\; </span></div><div>&nbsp\;</div><div><span style="font-size: small">For more information or to register\, contact Kelly Morgan\, 228-8244\, 800-233-5027\, extension 1244 or email </span><a href="mailto:kmorgan@southeast.edu"><span style="font-size: small">kmorgan@southeast.edu</span></a><span style="font-size: small">.&nbsp\; Registration deadline is May 28 or when enrollment limit has been met.</span></div>
LOCATION:
UID:e.41.2001
SEQUENCE:3
DTSTAMP:20260425T105653Z
URL:https://business.beatricechamber.com/events/details/continuing-education-clues-carved-in-stone-06-05-2010-2001
END:VEVENT

END:VCALENDAR
