BEGIN:VCALENDAR
VERSION:2.0
PRODID:-//ChamberMaster//Event Calendar 2.0//EN
METHOD:PUBLISH
X-PUBLISHED-TTL:P3D
REFRESH-INTERVAL:P3D
CALSCALE:GREGORIAN
BEGIN:VEVENT
DTSTART;VALUE=DATE:20111130
DTEND;VALUE=DATE:20111201
TRANSP:TRANSPARENT
X-MICROSOFT-CDO-ALLDAYEVENT:TRUE
SUMMARY:Control Diabetes for Life
DESCRIPTION:UNL Extension is offering an educational program "Control Diabetes for Life." This is a free program  from 1:30-4pm at the Gage county Extension Office. For further information contact Kayla Colgrove at 402-223-1384\, or lcolgrove@unl.edu
X-ALT-DESC;FMTTYPE=text/html:UNL Extension is offering an educational program &quot\;Control Diabetes for Life.&quot\; This is a free program &nbsp\;from 1:30-4pm at the Gage county Extension Office. For further information contact Kayla Colgrove at 402-223-1384\, or lcolgrove@unl.edu
LOCATION:
UID:e.41.5262
SEQUENCE:3
DTSTAMP:20260424T100046Z
URL:https://business.beatricechamber.com/events/details/control-diabetes-for-life-11-30-2011-5262
END:VEVENT

END:VCALENDAR
