BEGIN:VCALENDAR
VERSION:2.0
PRODID:-//ChamberMaster//Event Calendar 2.0//EN
METHOD:PUBLISH
X-PUBLISHED-TTL:P3D
REFRESH-INTERVAL:P3D
CALSCALE:GREGORIAN
BEGIN:VEVENT
DTSTART;VALUE=DATE:20110625
DTEND;VALUE=DATE:20110626
TRANSP:TRANSPARENT
X-MICROSOFT-CDO-ALLDAYEVENT:TRUE
SUMMARY:Cortland Fest
DESCRIPTION:Cortland Fest\n\n\n\nSaturday\, June 25\n\nCortland\, NE\n\n\n\nFor details\, visit www.cortlandne.com
X-ALT-DESC;FMTTYPE=text/html:Cortland Fest<br />\n<br />\nSaturday\, June 25<br />\nCortland\, NE<br />\n<br />\nFor details\, visit www.cortlandne.com<br />\n
LOCATION:
UID:e.41.4851
SEQUENCE:3
DTSTAMP:20260424T165610Z
URL:https://business.beatricechamber.com/events/details/cortland-fest-06-25-2011-4851
END:VEVENT

END:VCALENDAR
