BEGIN:VCALENDAR
VERSION:2.0
PRODID:-//ChamberMaster//Event Calendar 2.0//EN
METHOD:PUBLISH
X-PUBLISHED-TTL:P3D
REFRESH-INTERVAL:P3D
CALSCALE:GREGORIAN
BEGIN:VEVENT
DTSTART;VALUE=DATE:20100626
DTEND;VALUE=DATE:20100627
TRANSP:TRANSPARENT
X-MICROSOFT-CDO-ALLDAYEVENT:TRUE
SUMMARY:Cortland Fest 6/26/2010
DESCRIPTION:Cortland Fest   Saturday\, June 26\, 2010.  The many activities will include: Antique Tractor Show\, Inflatable games for the kids\, Sand Volleyball\, Softball/baseball games\, Flea Market\, Sarabande Jazz entertainment\, Parade\, Fireworks at dusk.  For more information go to www.cortlandne.com
X-ALT-DESC;FMTTYPE=text/html:<div><div><font style="font-size: 10pt"><font style="font-size: 18pt"><strong>Cortland Fest</strong>&nbsp\; </font></font></div><div>&nbsp\;</div><div><font style="font-size: 10pt"><font style="font-size: 18pt"><font style="font-size: 10pt"><strong>Saturday\, June 26\, 2010</strong>. </font></font></font></div><div>&nbsp\;</div><div><span style="font-size: small"><font style="font-size: 10pt"><font style="font-size: 18pt"><font style="font-size: 10pt">The many activities will include: Antique Tractor Show\, Inflatable games for the kids\, Sand Volleyball\, Softball/baseball games\, Flea Market\, Sarabande Jazz entertainment\, Parade\, Fireworks at dusk. </font></font></font></span></div><div>&nbsp\;</div><div><span style="font-size: small"><font style="font-size: 10pt"><font style="font-size: 18pt"><font style="font-size: 10pt">For more information go to </font></font></font></span><font style="font-size: 10pt"><font style="font-size: 18pt"><font style="font-size: 10pt"><a title="http://r20.rs6.net/tn.jsp?et=1103361877457&amp\;s=645&amp\;e=00154FnTiQDla61-ARC8b7DHmZ61m84TT7qibORbW0xexEimO_y0MGnAjVNljZl7XdDf31a-nN2XjOGVcC4LTyq9QMHynl69zfGlMQg4qHEpo4bfCni73oo4Q==" href="http://r20.rs6.net/tn.jsp?et=1103361877457&amp\;s=645&amp\;e=00154FnTiQDla61-ARC8b7DHmZ61m84TT7qibORbW0xexEimO_y0MGnAjVNljZl7XdDf31a-nN2XjOGVcC4LTyq9QMHynl69zfGlMQg4qHEpo4bfCni73oo4Q==" shape="rect" target="_blank"><span style="font-size: small">www.cortlandne.com</span></a></font><span style="font-size: small"><font style="font-size: 10pt"> </font></span></font></font></div></div>
LOCATION:
UID:e.41.1993
SEQUENCE:3
DTSTAMP:20260425T105555Z
URL:https://business.beatricechamber.com/events/details/cortland-fest-6-26-2010-06-26-2010-1993
END:VEVENT

END:VCALENDAR
