BEGIN:VCALENDAR
VERSION:2.0
PRODID:-//ChamberMaster//Event Calendar 2.0//EN
METHOD:PUBLISH
X-PUBLISHED-TTL:P3D
REFRESH-INTERVAL:P3D
CALSCALE:GREGORIAN
BEGIN:VEVENT
DTSTART;VALUE=DATE:20090626
DTEND;VALUE=DATE:20090628
TRANSP:TRANSPARENT
X-MICROSOFT-CDO-ALLDAYEVENT:TRUE
SUMMARY:Cortland Fest ''A Day at the Beach''
DESCRIPTION:Friday\, June 269 pm - 1 am Street Dance featuring "One MOre Time" Saturday\, June 27Fun-Run\, Antique Tractors\, Little Tuggers\, Car Show\, Viallage Museum\, Trolley Rides\, Bounce Houses\, 4 on 4 Volleyball\, food vendors and concessions\, & Fireworks!
X-ALT-DESC;FMTTYPE=text/html:<div>Friday\, June 26</div><div>9 pm - 1 am Street Dance featuring &quot\;One MOre Time&quot\;</div><div>&nbsp\;</div><div>Saturday\, June 27</div><div>Fun-Run\, Antique Tractors\, Little Tuggers\, Car Show\, Viallage Museum\, Trolley Rides\, Bounce Houses\, 4 on 4 Volleyball\, food vendors and concessions\, &amp\; Fireworks!</div>
LOCATION:
UID:e.41.1257
SEQUENCE:3
DTSTAMP:20260426T043010Z
URL:https://business.beatricechamber.com/events/details/cortland-fest-a-day-at-the-beach-06-26-2009-1257
END:VEVENT

END:VCALENDAR
