BEGIN:VCALENDAR
VERSION:2.0
PRODID:-//ChamberMaster//Event Calendar 2.0//EN
METHOD:PUBLISH
X-PUBLISHED-TTL:P3D
REFRESH-INTERVAL:P3D
CALSCALE:GREGORIAN
BEGIN:VEVENT
DTSTART:20120222T003000Z
DTEND:20120222T020000Z
X-MICROSOFT-CDO-ALLDAYEVENT:FALSE
SUMMARY:"Could I Start My Own Business?" Workshop
DESCRIPTION:"Could I Start My Own Business"\n\n\n\nCreating and starting a business is an exciting venture!\n\n\n\nTim Mittan\, Director of SCC Entrepreneurship Center and Business Coach\, will conduct this FREE workshop to discuss the current business climate and what you need to know to succeed.\n\n\n\nTuesday\, February 21\n\n6:30 - 8 pm\n\n\n\nBeatrice Area Chamber of Commerce\, Auditorium Conference Room\n\n205 N 4th Street\, Beatrice NE\n\n\n\nSpace is limited\, so please contact Lori Warner at 402-223-2338 for more information & to sign up!\n\n\n\nSponsored by Southeast Community College Entrepreneurship Center\n\n402-323-3383\n\nwww.southeast.edu/discover/locations/ENT
X-ALT-DESC;FMTTYPE=text/html:&quot\;Could I Start My Own Business&quot\;<br />\n<br />\nCreating and starting a business is an exciting venture!<br />\n<br />\nTim Mittan\, Director of SCC Entrepreneurship Center and Business Coach\, will conduct this FREE workshop to discuss the current business climate and what you need to know to succeed.<br />\n<br />\nTuesday\, February 21<br />\n6:30 - 8 pm<br />\n<br />\nBeatrice Area Chamber of Commerce\, Auditorium Conference Room<br />\n205 N 4th Street\, Beatrice NE<br />\n<br />\nSpace is limited\, so please contact Lori Warner at 402-223-2338 for more information &amp\; to sign up!<br />\n<br />\nSponsored by Southeast Community College Entrepreneurship Center<br />\n402-323-3383<br />\n<a href="http://www.southeast.edu/discover/locations/ENT">www.southeast.edu/discover/locations/ENT</a>
LOCATION:
UID:e.41.5319
SEQUENCE:3
DTSTAMP:20260422T185350Z
URL:https://business.beatricechamber.com/events/details/could-i-start-my-own-business-workshop-02-21-2012-5319
END:VEVENT

END:VCALENDAR
