BEGIN:VCALENDAR
VERSION:2.0
PRODID:-//ChamberMaster//Event Calendar 2.0//EN
METHOD:PUBLISH
X-PUBLISHED-TTL:P3D
REFRESH-INTERVAL:P3D
CALSCALE:GREGORIAN
BEGIN:VEVENT
DTSTART;VALUE=DATE:20100320
DTEND;VALUE=DATE:20100322
TRANSP:TRANSPARENT
X-MICROSOFT-CDO-ALLDAYEVENT:TRUE
SUMMARY:''County Fair'' Homestead Harmonizers
DESCRIPTION:Homestead Harmonizers present"County Fair" Saturday\, March 207 p.m. and Sunday\, March 212 p.m. Hevelone Center for Performing Arts atBeatrice High School600 Orange Blvd.Beatrice\, NE The show will also feature Vocal Spectrum\, a nationally acclaimed barbershop quartet.
X-ALT-DESC;FMTTYPE=text/html:<div>Homestead Harmonizers present</div><div>&quot\;County Fair&quot\;</div><div>&nbsp\;</div><div>Saturday\, March 20</div><div>7 p.m.</div><div>&nbsp\;</div><div>and Sunday\, March 21</div><div>2 p.m.</div><div>&nbsp\;</div><div>Hevelone Center for Performing Arts at</div><div>Beatrice High School</div><div>600 Orange Blvd.</div><div>Beatrice\, NE</div><div>&nbsp\;</div><div>The show will also feature Vocal Spectrum\, a nationally acclaimed barbershop quartet.</div>
LOCATION:
UID:e.41.1696
SEQUENCE:3
DTSTAMP:20260425T153116Z
URL:https://business.beatricechamber.com/events/details/county-fair-homestead-harmonizers-03-20-2010-1696
END:VEVENT

END:VCALENDAR
