BEGIN:VCALENDAR
VERSION:2.0
PRODID:-//ChamberMaster//Event Calendar 2.0//EN
METHOD:PUBLISH
X-PUBLISHED-TTL:P3D
REFRESH-INTERVAL:P3D
CALSCALE:GREGORIAN
BEGIN:VEVENT
DTSTART;VALUE=DATE:20090922
DTEND;VALUE=DATE:20090923
TRANSP:TRANSPARENT
X-MICROSOFT-CDO-ALLDAYEVENT:TRUE
SUMMARY:County Jail Open House Tours
DESCRIPTION:The Gage County Sheriff's office will host an open house at the county jail on Tuesday from 6:30 p.m.-8:30 p.m. and Saturday from 10 a.m.-noon.\n\nDuring the open house\, at 612 Lincoln St.\, in Beatrice\, tours of the sheriff's office and detention facility will be given.\n In November\, Gage County voters will decide the fate of a bond issue that would finance construction of a new jail. Ameritas Investment Corporation\, in charge of creating the bond for the county\, estimates the bond to cost $11\,365\,000.\n\nThe special election will be held on Nov. 10. The current county jail\, built in 1977\, is a 30-bed facility that routinely runs at full capacity or over\, according to Gage County Sheriff Millard "Gus" Gustafson. When there is no room in the current jail for inmates\, those inmates must be housed in other counties at a cost of $60 per day per inmate\, plus any necessary medical costs.
X-ALT-DESC;FMTTYPE=text/html:<div>The Gage County Sheriff&rsquo\;s office will host an open house at the county jail on Tuesday from 6:30 p.m.-8:30 p.m. and Saturday from 10 a.m.-noon.<br /><br />During the open house\, at 612 Lincoln St.\, in Beatrice\, tours of the sheriff&rsquo\;s office and detention facility will be given.<br />&nbsp\;</div><div>In November\, Gage County voters will decide the fate of a bond issue that would finance construction of a new jail. Ameritas Investment Corporation\, in charge of creating the bond for the county\, estimates the bond to cost $11\,365\,000.<br /><br />The special election will be held on Nov. 10.</div><div>&nbsp\;</div><div>The current county jail\, built in 1977\, is a 30-bed facility that routinely runs at full capacity or over\, according to Gage County Sheriff Millard &ldquo\;Gus&rdquo\; Gustafson. When there is no room in the current jail for inmates\, those inmates must be housed in other counties at a cost of $60 per day per inmate\, plus any necessary medical costs.</div>
LOCATION:
UID:e.41.1448
SEQUENCE:3
DTSTAMP:20260425T233855Z
URL:https://business.beatricechamber.com/events/details/county-jail-open-house-tours-09-22-2009-1448
END:VEVENT

END:VCALENDAR
