BEGIN:VCALENDAR
VERSION:2.0
PRODID:-//ChamberMaster//Event Calendar 2.0//EN
METHOD:PUBLISH
X-PUBLISHED-TTL:P3D
REFRESH-INTERVAL:P3D
CALSCALE:GREGORIAN
BEGIN:VEVENT
DTSTART;VALUE=DATE:20111009
DTEND;VALUE=DATE:20111010
TRANSP:TRANSPARENT
X-MICROSOFT-CDO-ALLDAYEVENT:TRUE
SUMMARY:"Courage for Cayden" - Benefit
DESCRIPTION:"Courage for Cayden" Benefit for Cayden McConnell\n\n\n\nSunday\, October 9\n\n11 am  - 2 pm\n\nAunt Mary's Center\, 111 S 8th Street\, Beatrice\n\n\n\nBenefit planned for 11-year old Beatrice Middle School Student as he has been receiving treatments for an inoperable brain tumor.\n\n\n\nA meal will be served for a freewill offering: bbq pork sandwich\, baked beans\, potato salad\, drinks and dessert.  The event also includes a silent and live auction.\n\n\n\nFor more information or to donate to the auction\, contact Dean & Barb Keim at 402-228-2211.  Monetary donations (earmarked Cayden McConnell Fund) are being accepted at Pinnacle Bank - Beatrice Branch\; or mail to Cayden McConnell Fund\, 1800 S 16th Circle Drive\, Beatrice\, NE  68310.
X-ALT-DESC;FMTTYPE=text/html:&quot\;Courage for Cayden&quot\; Benefit for Cayden McConnell<br />\n<br />\nSunday\, October 9<br />\n11 am&nbsp\; - 2 pm<br />\nAunt Mary&#39\;s Center\, 111 S 8th Street\, Beatrice<br />\n<br />\nBenefit planned for 11-year old Beatrice Middle School Student as he has been receiving treatments for an inoperable brain tumor.<br />\n<br />\nA meal will be served for a freewill offering: bbq pork sandwich\, baked beans\, potato salad\, drinks and dessert.&nbsp\; The event also includes a silent and live auction.<br />\n<br />\nFor more information or to donate to the auction\, contact Dean &amp\; Barb Keim at 402-228-2211.&nbsp\; Monetary donations (earmarked Cayden McConnell Fund) are being accepted at Pinnacle Bank - Beatrice Branch\; or mail to Cayden McConnell Fund\, 1800 S 16th Circle Drive\, Beatrice\, NE&nbsp\; 68310.
LOCATION:
UID:e.41.5165
SEQUENCE:3
DTSTAMP:20260424T111143Z
URL:https://business.beatricechamber.com/events/details/courage-for-cayden-benefit-10-09-2011-5165
END:VEVENT

END:VCALENDAR
