BEGIN:VCALENDAR
VERSION:2.0
PRODID:-//ChamberMaster//Event Calendar 2.0//EN
METHOD:PUBLISH
X-PUBLISHED-TTL:P3D
REFRESH-INTERVAL:P3D
CALSCALE:GREGORIAN
BEGIN:VEVENT
DTSTART;VALUE=DATE:20101121
DTEND;VALUE=DATE:20101122
TRANSP:TRANSPARENT
X-MICROSOFT-CDO-ALLDAYEVENT:TRUE
SUMMARY:Courthouse Holiday Lighting
DESCRIPTION:Courthouse Holiday Lighting\n\n\n\nSunday\, Nov. 21st\n\n\n\n4:30 p.m.- Reception- Carnegie Building\, Jazz Ensemble\n\n\n\n5:15 p.m.- Mayor's Tree Lighting at Charles Park\n\n\n\n5:25 p.m.- Holiday caroling by the Homestead Harmonizers\n\n\n\n5:55 p.m.- Santa Arrives\n\n\n\n6:00 p.m.- Lights go on at the Courthouse & throughout Beatrice\n\n\n\nSanta will have candy and visit with good little boys and girls after the lights go on.
X-ALT-DESC;FMTTYPE=text/html:<strong><span style="font-size: 14px">Courthouse Holiday Lighting</span><br />\n<br />\n<u>Sunday\, Nov. 21st</u></strong><br />\n<br />\n4:30 p.m.- Reception- Carnegie Building\, Jazz Ensemble<br />\n<br />\n5:15 p.m.- Mayor&#39\;s Tree Lighting at Charles Park<br />\n<br />\n5:25 p.m.- Holiday caroling by the Homestead Harmonizers<br />\n<br />\n5:55 p.m.- Santa Arrives<br />\n<br />\n6:00 p.m.- Lights go on at the Courthouse &amp\; throughout Beatrice<br />\n<br />\nSanta will have candy and visit with good little boys and girls after the lights go on.
LOCATION:
UID:e.41.2777
SEQUENCE:3
DTSTAMP:20260425T032340Z
URL:https://business.beatricechamber.com/events/details/courthouse-holiday-lighting-11-21-2010-2777
END:VEVENT

END:VCALENDAR
