BEGIN:VCALENDAR
VERSION:2.0
PRODID:-//ChamberMaster//Event Calendar 2.0//EN
METHOD:PUBLISH
X-PUBLISHED-TTL:P3D
REFRESH-INTERVAL:P3D
CALSCALE:GREGORIAN
BEGIN:VEVENT
DTSTART:20091123T000000Z
DTEND:20091123T010000Z
X-MICROSOFT-CDO-ALLDAYEVENT:FALSE
SUMMARY:Courthouse Lighting
DESCRIPTION:Courthouse Holiday LightingThe lights will be turned on November 22\, 2009 at 6:00 pmunless the roof construction has not yet been completed orif the lighting harness has not been installed on the roof. The annual holiday lighting ceremony will not be held this year becasue of construction conditions on the courthouse grounds.  But the community holiday ceremony will continue again next year. Soup Supper will still be held at Episcopal Church at 5th & Lincoln streetsbeginning at 4:30 - 7:00 pm. A quartet from the Homestead Harmonizers will be singing at the church between 5:25 and 5:55.
X-ALT-DESC;FMTTYPE=text/html:<div>Courthouse Holiday Lighting</div><div>The lights will be turned on November 22\, 2009 at 6:00 pm</div><div>unless the roof construction has not yet been completed or</div><div>if the lighting harness has not been installed on the roof.</div><div>&nbsp\;</div><div>The annual holiday lighting ceremony will not be held this year becasue of construction conditions on the courthouse grounds.&nbsp\; But the community holiday ceremony will continue again next year.</div><div>&nbsp\;</div><div>Soup Supper will still be held at Episcopal Church at 5th &amp\; Lincoln streets</div><div>beginning at 4:30 - 7:00 pm.&nbsp\;</div><div>A quartet from the Homestead&nbsp\;Harmonizers will be singing at the church between 5:25 and 5:55.</div><div>&nbsp\;</div><div>&nbsp\;</div>
LOCATION:
UID:e.41.1482
SEQUENCE:3
DTSTAMP:20260425T204532Z
URL:https://business.beatricechamber.com/events/details/courthouse-lighting-11-22-2009-1482
END:VEVENT

END:VCALENDAR
