BEGIN:VCALENDAR
VERSION:2.0
PRODID:-//ChamberMaster//Event Calendar 2.0//EN
METHOD:PUBLISH
X-PUBLISHED-TTL:P3D
REFRESH-INTERVAL:P3D
CALSCALE:GREGORIAN
BEGIN:VEVENT
DTSTART;VALUE=DATE:20100107
DTEND;VALUE=DATE:20100108
TRANSP:TRANSPARENT
X-MICROSOFT-CDO-ALLDAYEVENT:TRUE
SUMMARY:CP Appetizer Series - ''Acts of God''
DESCRIPTION:Appetizer Series
X-ALT-DESC;FMTTYPE=text/html:<div>Appetizer Series</div>
LOCATION:
UID:e.41.1540
SEQUENCE:3
DTSTAMP:20260425T181443Z
URL:https://business.beatricechamber.com/events/details/cp-appetizer-series-acts-of-god-01-07-2010-1540
END:VEVENT

END:VCALENDAR
