BEGIN:VCALENDAR
VERSION:2.0
PRODID:-//ChamberMaster//Event Calendar 2.0//EN
METHOD:PUBLISH
X-PUBLISHED-TTL:P3D
REFRESH-INTERVAL:P3D
CALSCALE:GREGORIAN
BEGIN:VEVENT
DTSTART;VALUE=DATE:20100318
DTEND;VALUE=DATE:20100319
TRANSP:TRANSPARENT
X-MICROSOFT-CDO-ALLDAYEVENT:TRUE
SUMMARY:CP Appetizer Series - ''Bittersweet Chocolates''
DESCRIPTION:"Bittersweet Chocolates"Community Players Appetizer Series Thursday\, March 18\, 20107 p.m. Community Players Theatre412 Ella St.Beatrice\, NE Tickets:  $5\; available one hour before show time. Box office:  228-1801www.beatricecommunityplayers.com
X-ALT-DESC;FMTTYPE=text/html:<div>&quot\;Bittersweet Chocolates&quot\;</div><div>Community Players Appetizer Series</div><div>&nbsp\;</div><div>Thursday\, March 18\, 2010</div><div>7 p.m.</div><div>&nbsp\;</div><div>Community Players Theatre</div><div>412 Ella St.</div><div>Beatrice\, NE</div><div>&nbsp\;</div><div>Tickets:&nbsp\; $5\; available one hour before show time.</div><div>&nbsp\;</div><div>Box office:&nbsp\; 228-1801</div><div><a href="http://www.beatricecommunityplayers.com">www.beatricecommunityplayers.com</a></div>
LOCATION:
UID:e.41.1541
SEQUENCE:3
DTSTAMP:20260425T152942Z
URL:https://business.beatricechamber.com/events/details/cp-appetizer-series-bittersweet-chocolates-03-18-2010-1541
END:VEVENT

END:VCALENDAR
